BEGIN:VCALENDAR
VERSION:2.0
PRODID:-//GLD - ECPv6.8.3//NONSGML v1.0//EN
CALSCALE:GREGORIAN
METHOD:PUBLISH
X-ORIGINAL-URL:https://gewoonlekkerdenderen.nl
X-WR-CALDESC:Evenementen voor GLD
REFRESH-INTERVAL;VALUE=DURATION:PT1H
X-Robots-Tag:noindex
X-PUBLISHED-TTL:PT1H
BEGIN:VTIMEZONE
TZID:UTC
BEGIN:STANDARD
TZOFFSETFROM:+0000
TZOFFSETTO:+0000
TZNAME:UTC
DTSTART:20230101T000000
END:STANDARD
END:VTIMEZONE
BEGIN:VEVENT
DTSTART;TZID=UTC:20240407T080000
DTEND;TZID=UTC:20240407T170000
DTSTAMP:20260423T072655
CREATED:20231027T121618Z
LAST-MODIFIED:20231027T121618Z
UID:482-1712476800-1712509200@gewoonlekkerdenderen.nl
SUMMARY:Tijdrit Almere
DESCRIPTION:20-40km
URL:https://gewoonlekkerdenderen.nl/event/tijdrit-almere/
CATEGORIES:Wedstrijden
END:VEVENT
BEGIN:VEVENT
DTSTART;TZID=UTC:20240325T080000
DTEND;TZID=UTC:20240325T170000
DTSTAMP:20260423T072655
CREATED:20231027T121311Z
LAST-MODIFIED:20231027T121311Z
UID:479-1711353600-1711386000@gewoonlekkerdenderen.nl
SUMMARY:Tijdrit Warns - Kalas tijdritcompetitie
DESCRIPTION:9km
URL:https://gewoonlekkerdenderen.nl/event/tijdrit-warns-kalas-tijdritcompetitie/
LOCATION:Warns\, Nederland\, Nederland
CATEGORIES:Wedstrijden
END:VEVENT
BEGIN:VEVENT
DTSTART;TZID=UTC:20231215T080000
DTEND;TZID=UTC:20231215T170000
DTSTAMP:20260423T072655
CREATED:20231215T105140Z
LAST-MODIFIED:20231215T105140Z
UID:711-1702627200-1702659600@gewoonlekkerdenderen.nl
SUMMARY:Training 1 (test)
DESCRIPTION:Bla bla
URL:https://gewoonlekkerdenderen.nl/event/training-1-test/
CATEGORIES:Trainingen
END:VEVENT
END:VCALENDAR